BEGIN:VCALENDAR
VERSION:2.0
PRODID:-//jEvents 2.0 for Joomla//EN
CALSCALE:GREGORIAN
METHOD:PUBLISH
BEGIN:VTIMEZONE
TZID:Europe/Vienna
END:VTIMEZONE
BEGIN:VEVENT
UID:8f9e175e1e4354195f22b99430aaa5e7
CATEGORIES:Luft-Pistole
SUMMARY:Landesliga 2.Rd.
LOCATION:PSV Villach
DESCRIPTION;ENCODING=QUOTED-PRINTABLE:\n\nAusschreibung\n\n\nQualifikationsrichtlinien LP\n
DTSTAMP:20260425T181529Z
DTSTART;TZID=Europe/Vienna;VALUE=DATE:20231125
DTEND;TZID=Europe/Vienna;VALUE=DATE:20231126
SEQUENCE:0
TRANSP:OPAQUE
END:VEVENT
END:VCALENDAR