BEGIN:VCALENDAR
VERSION:2.0
PRODID:-//jEvents 2.0 for Joomla//EN
CALSCALE:GREGORIAN
METHOD:PUBLISH
BEGIN:VTIMEZONE
TZID:Europe/Vienna
END:VTIMEZONE
BEGIN:VEVENT
UID:474b2f2ed915fac9d9f15a56c8400774
CATEGORIES:Luft-Pistole
SUMMARY:Landesliga 3.Rd.
LOCATION:PSV Villach
DESCRIPTION;ENCODING=QUOTED-PRINTABLE:<p><a href="images/pdfs/2024/luft_2324/knt_lp_ligen_2324_a.pdf" target="_bl
 ank">Ausschreibung</a></p><p><a href="images/pdfs/2024/luft_2324/knt_lp_rl_
 2324.pdf" target="_blank">Qualifikationsrichtlinien LP</a></p>
DTSTAMP:20260424T180713Z
DTSTART;TZID=Europe/Vienna;VALUE=DATE:20240113
DTEND;TZID=Europe/Vienna;VALUE=DATE:20240114
SEQUENCE:0
TRANSP:OPAQUE
END:VEVENT
END:VCALENDAR