BEGIN:VCALENDAR
VERSION:2.0
PRODID:-//jEvents 2.0 for Joomla//EN
CALSCALE:GREGORIAN
METHOD:PUBLISH
BEGIN:VTIMEZONE
TZID:Europe/Vienna
END:VTIMEZONE
BEGIN:VEVENT
UID:aef24696a3e728239314b7093fc87f50
CATEGORIES:Luft-Pistole
SUMMARY:Landesliga 5.Rd.
LOCATION:PSV Villach
DESCRIPTION;ENCODING=QUOTED-PRINTABLE:\n\nAusschreibung\n\n\nQualifikationsrichtlinien LP\n
DTSTAMP:20260424T173720Z
DTSTART;TZID=Europe/Vienna;VALUE=DATE:20240413
DTEND;TZID=Europe/Vienna;VALUE=DATE:20240414
SEQUENCE:0
TRANSP:OPAQUE
END:VEVENT
END:VCALENDAR