BEGIN:VCALENDAR
VERSION:2.0
PRODID:-//jEvents 2.0 for Joomla//EN
CALSCALE:GREGORIAN
METHOD:PUBLISH
BEGIN:VTIMEZONE
TZID:Europe/Vienna
END:VTIMEZONE
BEGIN:VEVENT
UID:5862eb183a8bea65cb04e44707f50d9a
CATEGORIES:Luft-Pistole
SUMMARY:Regionalliga 3.Rd.
DESCRIPTION;ENCODING=QUOTED-PRINTABLE:<p><a href="images/pdfs/2024/luft_2324/knt_lp_ligen_2324_a.pdf" target="_bl
 ank">Ausschreibung</a></p><p><a href="images/pdfs/2024/luft_2324/knt_lp_rl_
 2324.pdf" target="_blank">Qualifikationsrichtlinien LP</a></p>
DTSTAMP:20260425T225602Z
DTSTART;TZID=Europe/Vienna;VALUE=DATE:20231215
DTEND;TZID=Europe/Vienna;VALUE=DATE:20231216
SEQUENCE:0
TRANSP:OPAQUE
END:VEVENT
END:VCALENDAR