BEGIN:VCALENDAR
VERSION:2.0
PRODID:-//jEvents 2.0 for Joomla//EN
CALSCALE:GREGORIAN
METHOD:PUBLISH
BEGIN:VTIMEZONE
TZID:Europe/Vienna
END:VTIMEZONE
BEGIN:VEVENT
UID:40f6ad1fc596f9397e9c4f52d27bc436
CATEGORIES:Luft-Pistole
SUMMARY:Regionalliga 5.Rd.
DESCRIPTION;ENCODING=QUOTED-PRINTABLE:\n\nAusschreibung\n\n\nQualifikationsrichtlinien LP\n
DTSTAMP:20260424T162722Z
DTSTART;TZID=Europe/Vienna;VALUE=DATE:20240216
DTEND;TZID=Europe/Vienna;VALUE=DATE:20240217
SEQUENCE:0
TRANSP:OPAQUE
END:VEVENT
END:VCALENDAR