BEGIN:VCALENDAR
VERSION:2.0
PRODID:-//jEvents 2.0 for Joomla//EN
CALSCALE:GREGORIAN
METHOD:PUBLISH
BEGIN:VTIMEZONE
TZID:Europe/Vienna
END:VTIMEZONE
BEGIN:VEVENT
UID:30888fa693627fe37fc9e9c7eacfe438
CATEGORIES:Luft-Pistole
SUMMARY:RFWK 1.Rd.
DESCRIPTION;ENCODING=QUOTED-PRINTABLE:<p><a href="images/pdfs/2024/luft_2324/knt_lp_ligen_2324_a.pdf" target="_bl
 ank">Ausschreibung</a></p><p><a href="images/pdfs/2024/luft_2324/knt_lp_rl_
 2324.pdf" target="_blank">Qualifikationsrichtlinien LP</a></p>
DTSTAMP:20260425T181717Z
DTSTART;TZID=Europe/Vienna;VALUE=DATE:20231001
DTEND;TZID=Europe/Vienna;VALUE=DATE:20231101
SEQUENCE:0
TRANSP:OPAQUE
END:VEVENT
END:VCALENDAR