BEGIN:VCALENDAR
VERSION:2.0
PRODID:-//jEvents 2.0 for Joomla//EN
CALSCALE:GREGORIAN
METHOD:PUBLISH
BEGIN:VTIMEZONE
TZID:Europe/Vienna
END:VTIMEZONE
BEGIN:VEVENT
UID:52c7d377060b7bf18b29a0b3332229a2
CATEGORIES:Luft-Pistole
SUMMARY:RFWK 3.Rd.
DESCRIPTION;ENCODING=QUOTED-PRINTABLE:\n\nAusschreibung\n\n\nQualifikationsrichtlinien LP\n
DTSTAMP:20260425T195022Z
DTSTART;TZID=Europe/Vienna;VALUE=DATE:20231201
DTEND;TZID=Europe/Vienna;VALUE=DATE:20240101
SEQUENCE:0
TRANSP:OPAQUE
END:VEVENT
END:VCALENDAR