BEGIN:VCALENDAR
VERSION:2.0
PRODID:-//jEvents 2.0 for Joomla//EN
CALSCALE:GREGORIAN
METHOD:PUBLISH
BEGIN:VTIMEZONE
TZID:Europe/Vienna
END:VTIMEZONE
BEGIN:VEVENT
UID:1b802ec0816086294cf55e572705c6f0
CATEGORIES:Luft-Pistole
SUMMARY:RFWK 5.Rd.
DESCRIPTION;ENCODING=QUOTED-PRINTABLE:\n\nAusschreibung\n\n\nQualifikationsrichtlinien LP\n
DTSTAMP:20260424T145811Z
DTSTART;TZID=Europe/Vienna;VALUE=DATE:20240201
DTEND;TZID=Europe/Vienna;VALUE=DATE:20240301
SEQUENCE:0
TRANSP:OPAQUE
END:VEVENT
END:VCALENDAR