BEGIN:VCALENDAR
VERSION:2.0
PRODID:-//jEvents 2.0 for Joomla//EN
CALSCALE:GREGORIAN
METHOD:PUBLISH
BEGIN:VTIMEZONE
TZID:Europe/Vienna
END:VTIMEZONE
BEGIN:VEVENT
UID:c4f61a809d742929126067e70580ad9d
CATEGORIES:GK-Gewehr
SUMMARY:Zielfernrohr- und Johann Brunner Gedenkschießen 2024
LOCATION:SR Hubertus, Tiffen
DESCRIPTION;ENCODING=QUOTED-PRINTABLE:\n\nAusschreibung\n
DTSTAMP:20260425T005914Z
DTSTART;TZID=Europe/Vienna;VALUE=DATE:20241019
DTEND;TZID=Europe/Vienna;VALUE=DATE:20241020
SEQUENCE:0
TRANSP:OPAQUE
END:VEVENT
END:VCALENDAR